BEGIN:VCALENDAR
VERSION:2.0
PRODID:-//ChamberMaster//Event Calendar 2.0//EN
METHOD:PUBLISH
X-PUBLISHED-TTL:P3D
REFRESH-INTERVAL:P3D
CALSCALE:GREGORIAN
BEGIN:VEVENT
DTSTART:20290817T163000Z
DTEND:20290817T173000Z
X-MICROSOFT-CDO-ALLDAYEVENT:FALSE
SUMMARY:Young Toddler and Me Group
DESCRIPTION:Parents and caregivers with their toddlers\, 12-24 months old\, are invited to join together to share the joys and challenges of parenting in a supportive\, caring environment. This is a wonderful opportunity to connect with other parents and caregivers\, offer encouragement\, and gain valuable insights from Barton Health professionals on child development and parenting strategies. Guest speakers will include a pediatrics physician\, pelvic floor rehabilitation therapist\, speech development specialist\, and baby sign language nurse. For more information and to view the schedule of guest speakers\, visit BartonHealth.org.
X-ALT-DESC;FMTTYPE=text/html:Parents and caregivers with their toddlers\, 12-24 months old\, are invited to join together to share the joys and challenges of parenting in a supportive\, caring environment. This is a wonderful opportunity to connect with other parents and caregivers\, offer encouragement\, and gain valuable insights from Barton Health professionals on child development and parenting strategies. Guest speakers will include a pediatrics physician\, pelvic floor rehabilitation therapist\, speech development specialist\, and baby sign language nurse. For more information and to view the schedule of guest speakers\, visit <a href="http://BartonHealth.org">BartonHealth.org</a>.
LOCATION:Barton Center for Orthopedics & Wellness\, 2170B South Ave\, South Lake Tahoe
UID:e.1613.25750
SEQUENCE:3
DTSTAMP:20260423T031511Z
URL:https://business.tahoechamber.org/events/details/young-toddler-and-me-group-08-17-2029-25750
END:VEVENT

END:VCALENDAR
