BEGIN:VCALENDAR
VERSION:2.0
PRODID:-//ChamberMaster//Event Calendar 2.0//EN
METHOD:PUBLISH
X-PUBLISHED-TTL:P3D
REFRESH-INTERVAL:P3D
CALSCALE:GREGORIAN
BEGIN:VEVENT
DTSTART:20260425T002500Z
DTEND:20260425T023000Z
X-MICROSOFT-CDO-ALLDAYEVENT:FALSE
SUMMARY:Wine Tasting with - The Prisoner Wine Company
DESCRIPTION:Join us at The Idle Hour Lake Tahoe for a special evening featuring the bold and iconic wines of The Prisoner Wine Company.\n\nOn April 24\, we'll be pouring a curated tasting flight showcasing several distinctive wines from this renowned Napa Valley producer\, known for its rule-breaking blends and powerful flavor profiles. The Prisoner Wine Company has built a reputation for crafting rich\, expressive wines that push beyond traditional winemaking boundaries.\n\nGuests will have the opportunity to explore the depth and character that make these wines so sought after\, while enjoying the relaxed lakeside atmosphere of The Idle Hour. It's the perfect evening for wine enthusiasts to discover new favorites\, learn more about the story behind the wines\, and share a memorable tasting experience with friends.
X-ALT-DESC;FMTTYPE=text/html:<p>Join us at&nbsp\;<strong>The Idle Hour Lake Tahoe</strong>&nbsp\;for a special evening featuring the bold and iconic wines of&nbsp\;The Prisoner Wine Company.</p>\n\n<p>On&nbsp\;<strong>April 24</strong>\, we&rsquo\;ll be pouring a curated tasting flight showcasing several distinctive wines from this renowned Napa Valley producer\, known for its rule-breaking blends and powerful flavor profiles. The Prisoner Wine Company has built a reputation for crafting rich\, expressive wines that push beyond traditional winemaking boundaries.</p>\n\n<p>Guests will have the opportunity to explore the depth and character that make these wines so sought after\, while enjoying the relaxed lakeside atmosphere of The Idle Hour. It&rsquo\;s the perfect evening for wine enthusiasts to discover new favorites\, learn more about the story behind the wines\, and share a memorable tasting experience with friends.</p>\n
LOCATION:3351 Lake Tahoe Blvd Ste 5 South Lake Tahoe\, CA 96150
UID:e.1613.26106
SEQUENCE:3
DTSTAMP:20260423T023723Z
URL:https://business.tahoechamber.org/events/details/wine-tasting-with-the-prisoner-wine-company-26106
END:VEVENT

END:VCALENDAR
