BEGIN:VCALENDAR
VERSION:2.0
PRODID:-//ChamberMaster//Event Calendar 2.0//EN
METHOD:PUBLISH
X-PUBLISHED-TTL:P3D
REFRESH-INTERVAL:P3D
CALSCALE:GREGORIAN
BEGIN:VEVENT
DTSTART:20311008T163000Z
DTEND:20311008T220000Z
X-MICROSOFT-CDO-ALLDAYEVENT:FALSE
SUMMARY:Tahoe Regional Planning Agency Advisory Planning Commission
DESCRIPTION:Meeting materials will be posted seven days prior to the meeting.
X-ALT-DESC;FMTTYPE=text/html:Meeting materials will be posted seven days prior to the meeting.
LOCATION:Hybrid meeting: TRPA & Zoom TRPA 128 Market Street Stateline\, NV 89449
UID:e.1613.24090
SEQUENCE:3
DTSTAMP:20260426T010423Z
URL:https://business.tahoechamber.org/events/details/tahoe-regional-planning-agency-advisory-planning-commission-10-08-2031-24090
END:VEVENT

END:VCALENDAR
