BEGIN:VCALENDAR
VERSION:2.0
PRODID:-//ChamberMaster//Event Calendar 2.0//EN
METHOD:PUBLISH
X-PUBLISHED-TTL:P3D
REFRESH-INTERVAL:P3D
CALSCALE:GREGORIAN
BEGIN:VEVENT
DTSTART:20280919T200000Z
DTEND:20280919T213000Z
X-MICROSOFT-CDO-ALLDAYEVENT:FALSE
SUMMARY:Tahoe Chamber Board of Directors Meeting
DESCRIPTION:
X-ALT-DESC;FMTTYPE=text/html:
LOCATION:
UID:e.1613.23612
SEQUENCE:3
DTSTAMP:20260423T012840Z
URL:https://business.tahoechamber.org/events/details/tahoe-chamber-board-of-directors-meeting-09-19-2028-23612
END:VEVENT

END:VCALENDAR
