BEGIN:VCALENDAR
VERSION:2.0
PRODID:-//ChamberMaster//Event Calendar 2.0//EN
METHOD:PUBLISH
X-PUBLISHED-TTL:P3D
REFRESH-INTERVAL:P3D
CALSCALE:GREGORIAN
BEGIN:VEVENT
DTSTART:20320316T200000Z
DTEND:20320316T213000Z
X-MICROSOFT-CDO-ALLDAYEVENT:FALSE
SUMMARY:Tahoe Chamber Board of Directors Meeting
DESCRIPTION:
X-ALT-DESC;FMTTYPE=text/html:
LOCATION:
UID:e.1613.23654
SEQUENCE:3
DTSTAMP:20260424T231229Z
URL:https://business.tahoechamber.org/events/details/tahoe-chamber-board-of-directors-meeting-03-16-2032-23654
END:VEVENT

END:VCALENDAR
