BEGIN:VCALENDAR
VERSION:2.0
PRODID:-//ChamberMaster//Event Calendar 2.0//EN
METHOD:PUBLISH
X-PUBLISHED-TTL:P3D
REFRESH-INTERVAL:P3D
CALSCALE:GREGORIAN
BEGIN:VEVENT
DTSTART:20190824T190000Z
DTEND:20190824T230000Z
X-MICROSOFT-CDO-ALLDAYEVENT:FALSE
SUMMARY:Burlap and Denim Fundraiser
DESCRIPTION:Wear your denim and lace and come support Bread and Broth for kids at the Burlap and Denim event! There will be a BBQ\, live music and dancing\, games and entertainment\, a silent auction and raffle\, a country western selfie booth\, and ranch tours. There are limited tickets available\, so get yours today!
X-ALT-DESC;FMTTYPE=text/html:<span style="font-size:18px\;"><span style="font-family:courier new\;"><span style="color:#cc3300\;"><strong>Wear your denim and lace and come support Bread and Broth for kids at the Burlap and Denim event! There will be a BBQ\, live music and dancing\, games and entertainment\, a silent auction and raffle\, a country western selfie booth\, and ranch tours. There are limited tickets available\, so get yours today!&nbsp\;</strong></span></span></span>
LOCATION:Celio Ranch 820 South Upper Truckee Meyers\, South Lake Tahoe\, CA 96150
UID:e.1613.17590
SEQUENCE:3
DTSTAMP:20260420T030124Z
URL:https://business.tahoechamber.org/events/details/burlap-and-denim-fundraiser-17590
END:VEVENT

END:VCALENDAR
