BEGIN:VCALENDAR
VERSION:2.0
PRODID:-//ChamberMaster//Event Calendar 2.0//EN
METHOD:PUBLISH
X-PUBLISHED-TTL:P3D
REFRESH-INTERVAL:P3D
CALSCALE:GREGORIAN
BEGIN:VEVENT
DTSTART:20290703T220000Z
DTEND:20290703T230000Z
X-MICROSOFT-CDO-ALLDAYEVENT:FALSE
SUMMARY:Baby & Me Group
DESCRIPTION:Parents and caregivers with their babies\, 0-12 months old\, discuss the joys and challenges of parenting\, support each other\, and learn about child development and parenting from Barton Health professionals. Guest speakers will include a pediatrics physician\, pelvic floor rehabilitation therapist\, infant CPR specialist\, and community childcare champion. For more information and to view the schedule of guest speakers\, visit BartonHealth.org.
X-ALT-DESC;FMTTYPE=text/html:Parents and caregivers with their babies\, 0-12 months old\, discuss the joys and challenges of parenting\, support each other\, and learn about child development and parenting from Barton Health professionals. Guest speakers will include a pediatrics physician\, pelvic floor rehabilitation therapist\, infant CPR specialist\, and community childcare champion. For more information and to view the schedule of guest speakers\, visit <a href="http://BartonHealth.org">BartonHealth.org</a>.
LOCATION:Barton Center for Orthopedics & Wellness\, 2170B South Ave\, South Lake Tahoe
UID:e.1613.25344
SEQUENCE:3
DTSTAMP:20260423T031458Z
URL:https://business.tahoechamber.org/events/details/baby-me-group-07-03-2029-25344
END:VEVENT

END:VCALENDAR
