BEGIN:VCALENDAR
VERSION:2.0
PRODID:-//ChamberMaster//Event Calendar 2.0//EN
METHOD:PUBLISH
X-PUBLISHED-TTL:P3D
REFRESH-INTERVAL:P3D
CALSCALE:GREGORIAN
BEGIN:VEVENT
DTSTART:20260424T150000Z
DTEND:20260424T190000Z
X-MICROSOFT-CDO-ALLDAYEVENT:FALSE
SUMMARY:11th Annual Earth Day Cleanup
DESCRIPTION:Mark your calendars and celebrate Earth Day on April 24th from 8 am to 12 pm at Stateline with a rewarding community cleanup! \n\n\n\nWarming spring weather can expose trash left behind as winter snow starts to melt\, leaving South Lake Tahoe scattered with litter. This debris is an eyesore and can harm not only wildlife but also the clarity of Lake Tahoe. To protect the environment and our beautiful community\, the Keep Tahoe Blue is hosting the 11th Annual Earth Day Cleanup. Meet us in front of Azul Latin Kitchen\, at the corner of Lake Tahoe Blvd and Heavenly Village Way on April 24th from 8 am to 12 pm. For more information\, please visit: keeptahoeblue.org/events-activities-lessons/earth-day-cleanup-2/.
X-ALT-DESC;FMTTYPE=text/html:<div>\n<p><strong>Mark your calendars and celebrate Earth Day on April 24th</strong><strong>&nbsp\;from 8 am to 12 pm&nbsp\;at Stateline&nbsp\;with&nbsp\;a rewarding community cleanup!</strong><span style="background-color:rgb(198\, 198\, 198) !important\; font-family:aptos\,aptos_embeddedfont\,aptos_msfontservice\,sans-serif\; font-size:10.5pt">&nbsp\;</span></p>\n</div>\n\n<div>\n<p><span style="color:rgb(75\, 75\, 75)\; font-family:aptos\,aptos_embeddedfont\,aptos_msfontservice\,sans-serif\; font-size:10.5pt">Warming spring weather can expose trash left behind as winter snow starts to melt\, leaving South Lake Tahoe scattered with litter. This debris is an eyesore and can harm not only wildlife but also the clarity of Lake Tahoe. To protect the environment and our beautiful community\, the Keep Tahoe Blue is hosting the 11th Annual Earth Day Cleanup.&nbsp\;Meet us in front of Azul Latin Kitchen\, at the corner of Lake Tahoe Blvd and Heavenly Village Way on April 24th</span><span style="color:rgb(75\, 75\, 75)\; font-family:aptos\,aptos_embeddedfont\,aptos_msfontservice\,sans-serif\; font-size:10.5pt">&nbsp\;from 8 am to 12 pm. For more information\, please visit:&nbsp\;</span><a class="Hyperlink SCXW59483606 BCX8" href="https://www.keeptahoeblue.org/events-activities-lessons/earth-day-cleanup-2/" rel="noreferrer noopener" style="-webkit-user-drag: none\; -webkit-tap-highlight-color: transparent\; margin: 0px\; padding: 0px\; user-select: text\; text-decoration-line: none\; color: inherit\;" target="_blank"><span style="color:rgb(70\, 120\, 134)\; font-family:aptos\,aptos_embeddedfont\,aptos_msfontservice\,sans-serif\; font-size:10.5pt">keeptahoeblue.org/events-activities-lessons/earth-day-cleanup-2/.</span></a><span style="color:rgb(75\, 75\, 75)\; font-family:aptos\,aptos_embeddedfont\,aptos_msfontservice\,sans-serif\; font-size:10.5pt">&nbsp\;&nbsp\;</span><span style="background-color:rgb(198\, 198\, 198) !important\; color:rgb(75\, 75\, 75)\; font-family:aptos\,aptos_embeddedfont\,aptos_msfontservice\,sans-serif\; font-size:10.5pt">&nbsp\;</span></p>\n</div>\n
LOCATION:Meeting location: In front of Azul Latin Kitchen\, at the corner of Lake Tahoe Boulevard and Heavenly Village Way in South Lake Tahoe.
UID:e.1613.26092
SEQUENCE:3
DTSTAMP:20260421T045350Z
URL:https://business.tahoechamber.org/events/details/11th-annual-earth-day-cleanup-26092
END:VEVENT

END:VCALENDAR
